BEGIN:VCALENDAR
VERSION:2.0
PRODID:-//Abiding Presence Faith Community - ECPv6.15.20//NONSGML v1.0//EN
CALSCALE:GREGORIAN
METHOD:PUBLISH
X-WR-CALNAME:Abiding Presence Faith Community
X-ORIGINAL-URL:https://www.apfcwp.com
X-WR-CALDESC:Events for Abiding Presence Faith Community
REFRESH-INTERVAL;VALUE=DURATION:PT1H
X-Robots-Tag:noindex
X-PUBLISHED-TTL:PT1H
BEGIN:VTIMEZONE
TZID:America/New_York
BEGIN:DAYLIGHT
TZOFFSETFROM:-0500
TZOFFSETTO:-0400
TZNAME:EDT
DTSTART:20250309T070000
END:DAYLIGHT
BEGIN:STANDARD
TZOFFSETFROM:-0400
TZOFFSETTO:-0500
TZNAME:EST
DTSTART:20251102T060000
END:STANDARD
BEGIN:DAYLIGHT
TZOFFSETFROM:-0500
TZOFFSETTO:-0400
TZNAME:EDT
DTSTART:20260308T070000
END:DAYLIGHT
BEGIN:STANDARD
TZOFFSETFROM:-0400
TZOFFSETTO:-0500
TZNAME:EST
DTSTART:20261101T060000
END:STANDARD
BEGIN:DAYLIGHT
TZOFFSETFROM:-0500
TZOFFSETTO:-0400
TZNAME:EDT
DTSTART:20270314T070000
END:DAYLIGHT
BEGIN:STANDARD
TZOFFSETFROM:-0400
TZOFFSETTO:-0500
TZNAME:EST
DTSTART:20271107T060000
END:STANDARD
END:VTIMEZONE
BEGIN:VEVENT
DTSTART;TZID=America/New_York:20260421T093000
DTEND;TZID=America/New_York:20260421T113000
DTSTAMP:20260421T043116
CREATED:20260409T005402Z
LAST-MODIFIED:20260409T011951Z
UID:5097-1776763800-1776771000@www.apfcwp.com
SUMMARY:Rebecca’s Pantry
DESCRIPTION:Food Bank operated by the First United Church of Christ with the support of Abiding Presence Faith Community and Community Christian Church Disciples of Christ.
URL:https://www.apfcwp.com/event/rebeccas-pantry-69/
LOCATION:Church\, 4605 Curry Ford Rd\, Orlando\, FL\, 32812\, United States
CATEGORIES:Food Pantry
END:VEVENT
BEGIN:VEVENT
DTSTART;TZID=America/New_York:20260423T190000
DTEND;TZID=America/New_York:20260423T200000
DTSTAMP:20260421T043116
CREATED:20260409T005332Z
LAST-MODIFIED:20260409T005332Z
UID:5085-1776970800-1776974400@www.apfcwp.com
SUMMARY:Breaking Open the Word
DESCRIPTION:We will break open the Word for the upcoming Sunday\, each Monday at 7:00 PM. We are using At Home With the Word 2025 which is available from Liturgical Training Publications. It will be conducted via Zoom. Contact the Bishop pastor@apfcwp.com for the zoom link.
URL:https://www.apfcwp.com/event/breaking-open-the-word-38/
LOCATION:Zoom
CATEGORIES:Education
END:VEVENT
BEGIN:VEVENT
DTSTART;TZID=America/New_York:20260426T100000
DTEND;TZID=America/New_York:20260426T110000
DTSTAMP:20260421T043116
CREATED:20260409T005312Z
LAST-MODIFIED:20260411T004501Z
UID:5076-1777197600-1777201200@www.apfcwp.com
SUMMARY:Vigil Mass
DESCRIPTION:Divine Worship –Vigil of 4rd Sunday of the Christian Year New Mass Location 73 S. Semoran Blvd.\, Orlando
URL:https://www.apfcwp.com/event/vigil-mass-89/
LOCATION:Church (new)\, 73 S Semoran Blvd\, Orlando\, 32807\, United States
CATEGORIES:Mass
END:VEVENT
BEGIN:VEVENT
DTSTART;TZID=America/New_York:20260428T093000
DTEND;TZID=America/New_York:20260428T113000
DTSTAMP:20260421T043116
CREATED:20260409T005403Z
LAST-MODIFIED:20260409T012037Z
UID:5098-1777368600-1777375800@www.apfcwp.com
SUMMARY:Rebecca’s Pantry
DESCRIPTION:Food Bank operated by the First United Church of Christ with the support of Abiding Presence Faith Community and Community Christian Church Disciples of Christ.
URL:https://www.apfcwp.com/event/rebeccas-pantry-70/
LOCATION:Church\, 4605 Curry Ford Rd\, Orlando\, FL\, 32812\, United States
CATEGORIES:Food Pantry
END:VEVENT
BEGIN:VEVENT
DTSTART;TZID=America/New_York:20260430T190000
DTEND;TZID=America/New_York:20260430T200000
DTSTAMP:20260421T043116
CREATED:20260409T005332Z
LAST-MODIFIED:20260409T005332Z
UID:5086-1777575600-1777579200@www.apfcwp.com
SUMMARY:Breaking Open the Word
DESCRIPTION:We will break open the Word for the upcoming Sunday\, each Monday at 7:00 PM. We are using At Home With the Word 2025 which is available from Liturgical Training Publications. It will be conducted via Zoom. Contact the Bishop pastor@apfcwp.com for the zoom link.
URL:https://www.apfcwp.com/event/breaking-open-the-word-39/
LOCATION:Zoom
CATEGORIES:Education
END:VEVENT
END:VCALENDAR